BEGIN:VCALENDAR
VERSION:2.0
PRODID:-//Blue Hills Fire Department - ECPv6.15.20//NONSGML v1.0//EN
CALSCALE:GREGORIAN
METHOD:PUBLISH
X-WR-CALNAME:Blue Hills Fire Department
X-ORIGINAL-URL:https://bluehillsfire.org
X-WR-CALDESC:Events for Blue Hills Fire Department
REFRESH-INTERVAL;VALUE=DURATION:PT1H
X-Robots-Tag:noindex
X-PUBLISHED-TTL:PT1H
BEGIN:VTIMEZONE
TZID:America/New_York
BEGIN:DAYLIGHT
TZOFFSETFROM:-0500
TZOFFSETTO:-0400
TZNAME:EDT
DTSTART:20230312T070000
END:DAYLIGHT
BEGIN:STANDARD
TZOFFSETFROM:-0400
TZOFFSETTO:-0500
TZNAME:EST
DTSTART:20231105T060000
END:STANDARD
BEGIN:DAYLIGHT
TZOFFSETFROM:-0500
TZOFFSETTO:-0400
TZNAME:EDT
DTSTART:20240310T070000
END:DAYLIGHT
BEGIN:STANDARD
TZOFFSETFROM:-0400
TZOFFSETTO:-0500
TZNAME:EST
DTSTART:20241103T060000
END:STANDARD
BEGIN:DAYLIGHT
TZOFFSETFROM:-0500
TZOFFSETTO:-0400
TZNAME:EDT
DTSTART:20250309T070000
END:DAYLIGHT
BEGIN:STANDARD
TZOFFSETFROM:-0400
TZOFFSETTO:-0500
TZNAME:EST
DTSTART:20251102T060000
END:STANDARD
BEGIN:DAYLIGHT
TZOFFSETFROM:-0500
TZOFFSETTO:-0400
TZNAME:EDT
DTSTART:20260308T070000
END:DAYLIGHT
BEGIN:STANDARD
TZOFFSETFROM:-0400
TZOFFSETTO:-0500
TZNAME:EST
DTSTART:20261101T060000
END:STANDARD
END:VTIMEZONE
BEGIN:VEVENT
DTSTART;TZID=America/New_York:20250514T190000
DTEND;TZID=America/New_York:20250514T200000
DTSTAMP:20260424T170231
CREATED:20250513T195721Z
LAST-MODIFIED:20250513T195721Z
UID:15642-1747249200-1747252800@bluehillsfire.org
SUMMARY:SPECIAL MEETING OF FIRE COMMISSIONERS
DESCRIPTION:1. Call to order\n2. Discussion on Documents Requested from the Town of Bloomfield\n3. Adjournment
URL:https://bluehillsfire.org/event/special-meeting-of-fire-commissioners/
LOCATION:Fire Headquarters\, 1021 Blue Hills Avenue\, Bloomfield\, CT\, 06002
CATEGORIES:Commissioner's Meeting
END:VEVENT
BEGIN:VEVENT
DTSTART;TZID=America/New_York:20250507T190000
DTEND;TZID=America/New_York:20250507T200000
DTSTAMP:20260424T170231
CREATED:20241122T152455Z
LAST-MODIFIED:20241122T152455Z
UID:15583-1746644400-1746648000@bluehillsfire.org
SUMMARY:Commissioner's Meeting
DESCRIPTION:
URL:https://bluehillsfire.org/event/commissioners-meeting-16/
LOCATION:Fire Headquarters\, 1021 Blue Hills Avenue\, Bloomfield\, CT\, 06002
CATEGORIES:Commissioner's Meeting
END:VEVENT
BEGIN:VEVENT
DTSTART;TZID=America/New_York:20250430T180000
DTEND;TZID=America/New_York:20250430T200000
DTSTAMP:20260424T170231
CREATED:20250407T130921Z
LAST-MODIFIED:20250407T130921Z
UID:15632-1746036000-1746043200@bluehillsfire.org
SUMMARY:Budget Workshop
DESCRIPTION:
URL:https://bluehillsfire.org/event/budget-workshop/
LOCATION:Fire Headquarters\, 1021 Blue Hills Avenue\, Bloomfield\, CT\, 06002
CATEGORIES:Commissioner's Meeting
END:VEVENT
BEGIN:VEVENT
DTSTART;TZID=America/New_York:20250409T190000
DTEND;TZID=America/New_York:20250409T200000
DTSTAMP:20260424T170231
CREATED:20241122T152413Z
LAST-MODIFIED:20250309T141020Z
UID:15581-1744225200-1744228800@bluehillsfire.org
SUMMARY:Commissioner's Meeting
DESCRIPTION:
URL:https://bluehillsfire.org/event/commissioners-meeting-15/
LOCATION:Fire Headquarters\, 1021 Blue Hills Avenue\, Bloomfield\, CT\, 06002
CATEGORIES:Commissioner's Meeting
END:VEVENT
BEGIN:VEVENT
DTSTART;TZID=America/New_York:20250402T190000
DTEND;TZID=America/New_York:20250402T210000
DTSTAMP:20260424T170231
CREATED:20250309T141114Z
LAST-MODIFIED:20250407T133215Z
UID:15606-1743620400-1743627600@bluehillsfire.org
SUMMARY:Annual District Meeting
DESCRIPTION:The Annual District Meeting is scheduled for Wednesday\, April 2nd – 7:00 pm – 9:00 pm. Drive through/walk up vote
URL:https://bluehillsfire.org/event/annual-district-meeting-2/
LOCATION:Fire Headquarters\, 1021 Blue Hills Avenue\, Bloomfield\, CT\, 06002
CATEGORIES:Commissioner's Meeting
END:VEVENT
BEGIN:VEVENT
DTSTART;TZID=America/New_York:20250327T170000
DTEND;TZID=America/New_York:20250327T180000
DTSTAMP:20260424T170231
CREATED:20250327T175357Z
LAST-MODIFIED:20250327T175357Z
UID:15628-1743094800-1743098400@bluehillsfire.org
SUMMARY:Emergency Commissioners Meeting
DESCRIPTION:BLUE HILLS FIRE DISTRICT\nSPECIAL EMERGENCY MEETING OF FIRE COMMISSIONERS\nLOCATION: 1021 BLUE HILLS AVENUE\nBLOOMFIELD\, CT\nTHURSDAY\, MARCH 27\, 2025\n@ 5:00 PM\nAGENDA\n1. Call to order\n2. Anticipated Executive Session to Discuss Legal Opinion of Claims of Safety Issues Regarding Fire District.\n3. Adjournment
URL:https://bluehillsfire.org/event/emergency-commissioners-meeting/
LOCATION:Fire Headquarters\, 1021 Blue Hills Avenue\, Bloomfield\, CT\, 06002
CATEGORIES:Commissioner's Meeting
END:VEVENT
BEGIN:VEVENT
DTSTART;TZID=America/New_York:20250320T163000
DTEND;TZID=America/New_York:20250320T180000
DTSTAMP:20260424T170231
CREATED:20250319T170746Z
LAST-MODIFIED:20250319T170948Z
UID:15623-1742488200-1742493600@bluehillsfire.org
SUMMARY:Special Commissioner's Meeting
DESCRIPTION:Meeting starts at 4:30 PM
URL:https://bluehillsfire.org/event/special-commissioners-meeting-2/
LOCATION:Fire Headquarters\, 1021 Blue Hills Avenue\, Bloomfield\, CT\, 06002
CATEGORIES:Commissioner's Meeting
END:VEVENT
BEGIN:VEVENT
DTSTART;TZID=America/New_York:20250305T190000
DTEND;TZID=America/New_York:20250305T200000
DTSTAMP:20260424T170231
CREATED:20241122T152147Z
LAST-MODIFIED:20241122T152147Z
UID:15579-1741201200-1741204800@bluehillsfire.org
SUMMARY:Commissioner's Meeting
DESCRIPTION:
URL:https://bluehillsfire.org/event/commissioners-meeting-14/
LOCATION:Fire Headquarters\, 1021 Blue Hills Avenue\, Bloomfield\, CT\, 06002
CATEGORIES:Commissioner's Meeting
END:VEVENT
BEGIN:VEVENT
DTSTART;TZID=America/New_York:20250205T190000
DTEND;TZID=America/New_York:20250205T200000
DTSTAMP:20260424T170231
CREATED:20241122T152012Z
LAST-MODIFIED:20241122T152032Z
UID:15577-1738782000-1738785600@bluehillsfire.org
SUMMARY:Commissioner's Meeting
DESCRIPTION:
URL:https://bluehillsfire.org/event/commissioners-meeting-13/
LOCATION:Fire Headquarters\, 1021 Blue Hills Avenue\, Bloomfield\, CT\, 06002
CATEGORIES:Commissioner's Meeting
END:VEVENT
BEGIN:VEVENT
DTSTART;TZID=America/New_York:20250108T190000
DTEND;TZID=America/New_York:20250108T200000
DTSTAMP:20260424T170231
CREATED:20241122T151821Z
LAST-MODIFIED:20241122T152059Z
UID:15575-1736362800-1736366400@bluehillsfire.org
SUMMARY:Commissioner's Meeting
DESCRIPTION:
URL:https://bluehillsfire.org/event/commissioners-meeting-12/
LOCATION:Fire Headquarters\, 1021 Blue Hills Avenue\, Bloomfield\, CT\, 06002
CATEGORIES:Commissioner's Meeting
END:VEVENT
BEGIN:VEVENT
DTSTART;TZID=America/New_York:20241204T190000
DTEND;TZID=America/New_York:20241204T200000
DTSTAMP:20260424T170231
CREATED:20231229T172401Z
LAST-MODIFIED:20231229T172401Z
UID:15479-1733338800-1733342400@bluehillsfire.org
SUMMARY:Commissioner's Meeting
DESCRIPTION:
URL:https://bluehillsfire.org/event/commissioners-meeting-11/
LOCATION:Fire Headquarters\, 1021 Blue Hills Avenue\, Bloomfield\, CT\, 06002
CATEGORIES:Commissioner's Meeting
END:VEVENT
BEGIN:VEVENT
DTSTART;TZID=America/New_York:20241106T190000
DTEND;TZID=America/New_York:20241106T200000
DTSTAMP:20260424T170231
CREATED:20231229T172331Z
LAST-MODIFIED:20231229T172331Z
UID:15477-1730919600-1730923200@bluehillsfire.org
SUMMARY:Commissioner's Meeting
DESCRIPTION:
URL:https://bluehillsfire.org/event/commissioners-meeting-10/
LOCATION:Fire Headquarters\, 1021 Blue Hills Avenue\, Bloomfield\, CT\, 06002
CATEGORIES:Commissioner's Meeting
END:VEVENT
BEGIN:VEVENT
DTSTART;TZID=America/New_York:20241002T190000
DTEND;TZID=America/New_York:20241002T200000
DTSTAMP:20260424T170231
CREATED:20231229T172259Z
LAST-MODIFIED:20231229T172259Z
UID:15475-1727895600-1727899200@bluehillsfire.org
SUMMARY:Commissioner's Meeting
DESCRIPTION:
URL:https://bluehillsfire.org/event/commissioners-meeting-9/
LOCATION:Fire Headquarters\, 1021 Blue Hills Avenue\, Bloomfield\, CT\, 06002
CATEGORIES:Commissioner's Meeting
END:VEVENT
BEGIN:VEVENT
DTSTART;TZID=America/New_York:20240904T190000
DTEND;TZID=America/New_York:20240904T200000
DTSTAMP:20260424T170231
CREATED:20231229T172233Z
LAST-MODIFIED:20231229T172233Z
UID:15473-1725476400-1725480000@bluehillsfire.org
SUMMARY:Commissioner's Meeting
DESCRIPTION:
URL:https://bluehillsfire.org/event/commissioners-meeting-8/
LOCATION:Fire Headquarters\, 1021 Blue Hills Avenue\, Bloomfield\, CT\, 06002
CATEGORIES:Commissioner's Meeting
END:VEVENT
BEGIN:VEVENT
DTSTART;TZID=America/New_York:20240710T190000
DTEND;TZID=America/New_York:20240710T200000
DTSTAMP:20260424T170231
CREATED:20231229T172159Z
LAST-MODIFIED:20231229T172159Z
UID:15471-1720638000-1720641600@bluehillsfire.org
SUMMARY:Commissioner's Meeting
DESCRIPTION:
URL:https://bluehillsfire.org/event/commissioners-meeting-7/
LOCATION:Fire Headquarters\, 1021 Blue Hills Avenue\, Bloomfield\, CT\, 06002
CATEGORIES:Commissioner's Meeting
END:VEVENT
BEGIN:VEVENT
DTSTART;TZID=America/New_York:20240612T170000
DTEND;TZID=America/New_York:20240612T180000
DTSTAMP:20260424T170231
CREATED:20240609T143001Z
LAST-MODIFIED:20240609T143001Z
UID:15519-1718211600-1718215200@bluehillsfire.org
SUMMARY:Special Meeting of Fire Commmissioners
DESCRIPTION:BLUE HILLS FIRE DISTRICT\nSPECIAL MEETING OF FIRE COMMISSIONERS\nLOCATION: 1021 BLUE HILLS AVENUE\nBLOOMFIELD\, CT\nWEDNESDAY\, June 12\, 2024\n@ 5:00 PM\nAGENDA \n1. Call to order\n2. Discussion and Anticipated Action regarding amending Commissioner’s Meeting minutes from May 8\, 2024\, on line item number 9\, Discussion and Anticipated Action to give employees monetary incentive based on their performance review up to a week’s pay. Action was taken and passed with Commissioner Taylor making a motion to give all employees monetary incentive based on their performance review and it was seconded by Commissioner Marzouca Jaunai. The motion carried.\n3. Discussion and Anticipated Action to Withdraw funds from the Length of Service Award Program (LOSAP) in the amount of $57\,405.66\n4. Discussion and Anticipated Action to move to Executive Session for the Discussion of Employees Performance Review.\n5. Adjournment
URL:https://bluehillsfire.org/event/special-meeting-of-fire-commmissioners/
LOCATION:Fire Headquarters\, 1021 Blue Hills Avenue\, Bloomfield\, CT\, 06002
CATEGORIES:Commissioner's Meeting
END:VEVENT
BEGIN:VEVENT
DTSTART;TZID=America/New_York:20240605T190000
DTEND;TZID=America/New_York:20240605T200000
DTSTAMP:20260424T170231
CREATED:20231229T171900Z
LAST-MODIFIED:20231229T171900Z
UID:15467-1717614000-1717617600@bluehillsfire.org
SUMMARY:Commissioner's Meeting
DESCRIPTION:
URL:https://bluehillsfire.org/event/commissioners-meeting-6/
LOCATION:Fire Headquarters\, 1021 Blue Hills Avenue\, Bloomfield\, CT\, 06002
CATEGORIES:Commissioner's Meeting
END:VEVENT
BEGIN:VEVENT
DTSTART;TZID=America/New_York:20240515T190000
DTEND;TZID=America/New_York:20240515T210000
DTSTAMP:20260424T170231
CREATED:20240311T213405Z
LAST-MODIFIED:20240425T132819Z
UID:15496-1715799600-1715806800@bluehillsfire.org
SUMMARY:Annual District Budget Meeting
DESCRIPTION:Please be advised that the Annual District Budget Meeting of legal voters of the Blue Hills Fire District will be held on Wednesday\, May 15\, 2024\, at 7:00pm.\, at the Fire Headquarters: 1021 Blue Hills Ave.\, Bloomfield\, CT.\nThe purpose of the meeting is as follows:\n1. To elect a Moderator\n2. To set the tax mill rate and due date.\n3. To adopt a budget and lay the tax for the fiscal year 2024-2025.\n4. To authorize inter-fund transfer.\n5. To authorize the Board of Fire Commissioners to borrow money to meet current expenses.\n6. To authorize the Board of Fire Commissioners to appoint an Auditor and Tax Collector for the 2024-2025 fiscal year.\n7. To transact any other business to come before this meeting. \nDated at Bloomfield\, Connecticut\nWednesday\, April 24\, 2024\nShelden Brown\, District Clerk
URL:https://bluehillsfire.org/event/annual-district-budget-meeting/
LOCATION:Fire Headquarters\, 1021 Blue Hills Avenue\, Bloomfield\, CT\, 06002
CATEGORIES:Commissioner's Meeting
END:VEVENT
BEGIN:VEVENT
DTSTART;TZID=America/New_York:20240508T190000
DTEND;TZID=America/New_York:20240508T200000
DTSTAMP:20260424T170231
CREATED:20231229T171821Z
LAST-MODIFIED:20240311T213159Z
UID:15465-1715194800-1715198400@bluehillsfire.org
SUMMARY:Commissioner's Meeting - Rescheduled from 5/1
DESCRIPTION:
URL:https://bluehillsfire.org/event/commissioners-meeting-5/
LOCATION:Fire Headquarters\, 1021 Blue Hills Avenue\, Bloomfield\, CT\, 06002
CATEGORIES:Commissioner's Meeting
END:VEVENT
BEGIN:VEVENT
DTSTART;TZID=America/New_York:20240501T190000
DTEND;TZID=America/New_York:20240501T200000
DTSTAMP:20260424T170231
CREATED:20240311T213340Z
LAST-MODIFIED:20240311T213340Z
UID:15494-1714590000-1714593600@bluehillsfire.org
SUMMARY:Budget Hearing - Public Workshop
DESCRIPTION:
URL:https://bluehillsfire.org/event/budget-hearing-public-workshop/
LOCATION:Fire Headquarters\, 1021 Blue Hills Avenue\, Bloomfield\, CT\, 06002
CATEGORIES:Commissioner's Meeting
END:VEVENT
BEGIN:VEVENT
DTSTART;TZID=America/New_York:20240410T190000
DTEND;TZID=America/New_York:20240410T200000
DTSTAMP:20260424T170231
CREATED:20231229T171734Z
LAST-MODIFIED:20240311T213130Z
UID:15463-1712775600-1712779200@bluehillsfire.org
SUMMARY:Commissioner's Meeting - Rescheduled from 4/3
DESCRIPTION:
URL:https://bluehillsfire.org/event/commissioners-meeting-4/
LOCATION:Fire Headquarters\, 1021 Blue Hills Avenue\, Bloomfield\, CT\, 06002
CATEGORIES:Commissioner's Meeting
END:VEVENT
BEGIN:VEVENT
DTSTART;TZID=America/New_York:20240408T180000
DTEND;TZID=America/New_York:20240408T190000
DTSTAMP:20260424T170231
CREATED:20240405T162500Z
LAST-MODIFIED:20240405T162500Z
UID:15505-1712599200-1712602800@bluehillsfire.org
SUMMARY:SPECIAL COMMISSIONERS MEETING
DESCRIPTION:SPECIAL COMMISSIONERS MEETING OF THE BLUE HILL FIRE DISTRICT\nLOCATION: 1021 BLUE HILLS AVENUE\, BLOOMFIELD\, CT\nMonday\, April 8\, 2024 @ 6:00 PM\nAGENDA\n1. Call to order\n2. Anticipated Executive Session for the Purpose of Considering:\nDiscussion Collective Bargaining Contract\nLitigation\nPersonnel Matters/Employment Contract Agreement
URL:https://bluehillsfire.org/event/special-commissioners-meeting/
LOCATION:Fire Headquarters\, 1021 Blue Hills Avenue\, Bloomfield\, CT\, 06002
END:VEVENT
BEGIN:VEVENT
DTSTART;TZID=America/New_York:20240403T190000
DTEND;TZID=America/New_York:20240403T210000
DTSTAMP:20260424T170231
CREATED:20240311T213248Z
LAST-MODIFIED:20240311T213248Z
UID:15492-1712170800-1712178000@bluehillsfire.org
SUMMARY:Annual District Meeting
DESCRIPTION:Elect a Commissioner for a 3 Year Term \nElect a Clerk for a 1 Year Term \nElect a Treasurer for a 1 Year Term \nDrive Through/Walk Up Vote \n1021 Blue Hills Avenue\, Bloomfield\, CT
URL:https://bluehillsfire.org/event/annual-district-meeting/
LOCATION:Fire Headquarters\, 1021 Blue Hills Avenue\, Bloomfield\, CT\, 06002
CATEGORIES:Commissioner's Meeting
END:VEVENT
BEGIN:VEVENT
DTSTART;TZID=America/New_York:20240306T190000
DTEND;TZID=America/New_York:20240306T200000
DTSTAMP:20260424T170231
CREATED:20231229T171508Z
LAST-MODIFIED:20231229T171508Z
UID:15461-1709751600-1709755200@bluehillsfire.org
SUMMARY:Commissioner's Meeting
DESCRIPTION:
URL:https://bluehillsfire.org/event/commissioners-meeting-3/
LOCATION:Fire Headquarters\, 1021 Blue Hills Avenue\, Bloomfield\, CT\, 06002
CATEGORIES:Commissioner's Meeting
END:VEVENT
BEGIN:VEVENT
DTSTART;TZID=America/New_York:20240207T190000
DTEND;TZID=America/New_York:20240207T200000
DTSTAMP:20260424T170231
CREATED:20231229T171441Z
LAST-MODIFIED:20231229T171441Z
UID:15459-1707332400-1707336000@bluehillsfire.org
SUMMARY:Commissioner's Meeting
DESCRIPTION:
URL:https://bluehillsfire.org/event/commissioners-meeting-2/
LOCATION:Fire Headquarters\, 1021 Blue Hills Avenue\, Bloomfield\, CT\, 06002
CATEGORIES:Commissioner's Meeting
END:VEVENT
BEGIN:VEVENT
DTSTART;TZID=America/New_York:20240110T190000
DTEND;TZID=America/New_York:20240110T200000
DTSTAMP:20260424T170231
CREATED:20231229T155053Z
LAST-MODIFIED:20231229T155130Z
UID:15419-1704913200-1704916800@bluehillsfire.org
SUMMARY:Commissioner's Meeting
DESCRIPTION:
URL:https://bluehillsfire.org/event/commissioners-meeting/
LOCATION:Fire Headquarters\, 1021 Blue Hills Avenue\, Bloomfield\, CT\, 06002
CATEGORIES:Commissioner's Meeting
END:VEVENT
END:VCALENDAR