BEGIN:VCALENDAR
VERSION:2.0
PRODID:-//Blue Hills Fire Department - ECPv6.15.20//NONSGML v1.0//EN
CALSCALE:GREGORIAN
METHOD:PUBLISH
X-ORIGINAL-URL:https://bluehillsfire.org
X-WR-CALDESC:Events for Blue Hills Fire Department
REFRESH-INTERVAL;VALUE=DURATION:PT1H
X-Robots-Tag:noindex
X-PUBLISHED-TTL:PT1H
BEGIN:VTIMEZONE
TZID:America/New_York
BEGIN:DAYLIGHT
TZOFFSETFROM:-0500
TZOFFSETTO:-0400
TZNAME:EDT
DTSTART:20250309T070000
END:DAYLIGHT
BEGIN:STANDARD
TZOFFSETFROM:-0400
TZOFFSETTO:-0500
TZNAME:EST
DTSTART:20251102T060000
END:STANDARD
BEGIN:DAYLIGHT
TZOFFSETFROM:-0500
TZOFFSETTO:-0400
TZNAME:EDT
DTSTART:20260308T070000
END:DAYLIGHT
BEGIN:STANDARD
TZOFFSETFROM:-0400
TZOFFSETTO:-0500
TZNAME:EST
DTSTART:20261101T060000
END:STANDARD
BEGIN:DAYLIGHT
TZOFFSETFROM:-0500
TZOFFSETTO:-0400
TZNAME:EDT
DTSTART:20270314T070000
END:DAYLIGHT
BEGIN:STANDARD
TZOFFSETFROM:-0400
TZOFFSETTO:-0500
TZNAME:EST
DTSTART:20271107T060000
END:STANDARD
END:VTIMEZONE
BEGIN:VEVENT
DTSTART;TZID=America/New_York:20260506T190000
DTEND;TZID=America/New_York:20260506T200000
DTSTAMP:20260424T142346
CREATED:20260114T152147Z
LAST-MODIFIED:20260114T152147Z
UID:15719-1778094000-1778097600@bluehillsfire.org
SUMMARY:Commissioner's Meeting
DESCRIPTION:
URL:https://bluehillsfire.org/event/commissioners-meeting-26/
LOCATION:Fire Headquarters\, 1021 Blue Hills Avenue\, Bloomfield\, CT\, 06002
CATEGORIES:Commissioner's Meeting
END:VEVENT
BEGIN:VEVENT
DTSTART;TZID=America/New_York:20260520T190000
DTEND;TZID=America/New_York:20260520T200000
DTSTAMP:20260424T142346
CREATED:20260413T133816Z
LAST-MODIFIED:20260413T133816Z
UID:15771-1779303600-1779307200@bluehillsfire.org
SUMMARY:Annual Budget Meeting
DESCRIPTION:LEGAL NOTICE\nBLUE HILLS FIRE DISTRICT\nANNUAL DISTRICT BUDGET MEETING \nPlease be advised that the Annual District Budget Meeting of legal voters of the Blue Hills Fire District will be held on Wednesday\, May 20\, 2026\, at 7:00pm.\, at the Fire Headquarters: 1021\nBlue Hills Ave.\, Bloomfield\, CT. \nThe purpose of the meeting is as follows:\n1. Call to order\n2. To elect a Moderator\n3. To set the tax mill rate and due date.\n4. To adopt a budget and lay the tax for the fiscal year 2026-2027.\n5. To authorize inter-fund transfer.\n6. To authorize the Board of Fire Commissioners to borrow money to meet current\nexpenses.\n7. To authorize the Board of Fire Commissioners to appoint an Auditor and Tax Collector\nfor the 2026-2027 fiscal year.\n8. To transact any other business to come before this meeting. \nDated at Bloomfield\, Connecticut\nMonday\, April 13\, 2026\nShelden Brown\, District Clerk\nPlease send a receipt to the above address or to fax #860-242-8832. \nIf you have any questions or if there is a problem getting into the proper edition\, please contact Shelden Brown\, @ 860-243-8949 (Fire Headquarters) or @ sbrown@bluehillsfire.org. This legal notice should be billed to the Blue Hills Fire District at the above address.\nSincerely\,\nShelden Brown\nDistrict Clerk
URL:https://bluehillsfire.org/event/annual-budget-meeting-2/
LOCATION:Fire Headquarters\, 1021 Blue Hills Avenue\, Bloomfield\, CT\, 06002
CATEGORIES:Commissioner's Meeting
END:VEVENT
END:VCALENDAR